BEGIN:VCALENDAR
VERSION:2.0
PRODID:icalendar-ruby
CALSCALE:GREGORIAN
METHOD:PUBLISH
BEGIN:VEVENT
DTSTAMP:20260424T021041Z
UID:7-863366@sbcmh.com
DTSTART:20261105T000000Z
DTEND:20261105T010000Z
CLASS:PUBLIC
CREATED:20260423T215817
DESCRIPTION:Join us each Wednesday Evenings in person or virtually as we co
 ntinue to study the Word of God together.  You can find the recordings in
  the media section of our website.
LAST-MODIFIED:20260423T215817
LOCATION:
SUMMARY:Mid Week Service
URL;VALUE=URI:https://www.sbcmh.com/events/mid-week-service/2026-11-04
ATTACH;FILENAME=midweek-service-2.jpg;FMTTYPE=image/jpeg:https://dq5pwpg1q8
 ru0.cloudfront.net/2021/12/15/10/11/39/67f6dd48-5dbb-40fc-9379-82251f39aff
 e/midweek-service-2.jpg
END:VEVENT
END:VCALENDAR
