BEGIN:VCALENDAR
VERSION:2.0
PRODID:icalendar-ruby
CALSCALE:GREGORIAN
METHOD:PUBLISH
BEGIN:VEVENT
DTSTAMP:20260423T092838Z
UID:7-860239@sbcmh.com
DTSTART:20260805T230000Z
DTEND:20260806T000000Z
CLASS:PUBLIC
CREATED:20260422T215627
DESCRIPTION:Join us each Wednesday Evenings in person or virtually as we co
 ntinue to study the Word of God together.  You can find the recordings in
  the media section of our website.
LAST-MODIFIED:20260422T215627
LOCATION:
SUMMARY:Mid Week Service
URL;VALUE=URI:https://www.sbcmh.com/events/mid-week-service/2026-08-05
ATTACH;FILENAME=midweek-service-2.jpg;FMTTYPE=image/jpeg:https://dq5pwpg1q8
 ru0.cloudfront.net/2021/12/15/10/11/39/67f6dd48-5dbb-40fc-9379-82251f39aff
 e/midweek-service-2.jpg
END:VEVENT
END:VCALENDAR
